BEGIN:VCALENDAR
PRODID:-//srjo10554//EN
VERSION:2.0
BEGIN:VEVENT
SUMMARY:John Nicholson&#39;s: General Antiques and Collectables - UK BIDDERS ONLY
PRIORITY:0
CLASS:PUBLIC
DTSTART:20260425T083000Z
DTEND:20260425T225900Z
DESCRIPTION:General Antiques and Collectables - UK BIDDERS ONLY
X-ALT-DESC;FMTTYPE=text/html:<p>General Antiques and Collectables - UK BIDDERS ONLY</p>
LOCATION:The Auction Rooms, , Longfield, Midhurst Road, Fernhurst, Haslemere, Surrey, GU27 3HA, United Kingdom
END:VEVENT
END:VCALENDAR